BEGIN:VCALENDAR
VERSION:2.0
PRODID:-//Tukios.com/
BEGIN:VEVENT
UID:601fef0a-3bef-4026-b137-dd40825193c8@www.brownsfuneralserviceatokaok.com
DTSTAMP:20260425T194051Z
DTSTART:20260428T190000Z
DTEND:20260428T200000Z
SUMMARY:Funeral Service
DESCRIPTION:
URL:https://www.brownsfuneralserviceatokaok.com/obituaries/edna-sheffield
LOCATION: 718 W 13th St  Atoka OK 74525
GEO:34.3742433;-96.1415977
END:VEVENT
END:VCALENDAR