BEGIN:VCALENDAR
VERSION:2.0
PRODID:-//Tukios.com/
BEGIN:VEVENT
UID:4d8f0237-bc33-4501-bd69-0ab039d5aaac@www.brownsfuneralserviceatokaok.com
DTSTAMP:20260420T230919Z
DTSTART:20260424T190000Z
DTEND:20260424T200000Z
SUMMARY:Funeral Service
DESCRIPTION:
URL:https://www.brownsfuneralserviceatokaok.com/obituaries/gerald-jackson
LOCATION: 718 W 13th St  Atoka OK 74525
GEO:34.3742433;-96.1415977
END:VEVENT
END:VCALENDAR