BEGIN:VCALENDAR
VERSION:2.0
PRODID:-//Tukios.com/
BEGIN:VEVENT
UID:c6d93811-93c9-460e-a954-f8ef69635cd6@www.brownsfuneralserviceatokaok.com
DTSTAMP:20260420T231036Z
DTSTART:20260423T230000Z
DTEND:20260424T010000Z
SUMMARY:Visitation
DESCRIPTION:
URL:https://www.brownsfuneralserviceatokaok.com/obituaries/gerald-jackson
LOCATION: 718 W 13th St  Atoka OK 74525
GEO:34.3742433;-96.1415977
END:VEVENT
END:VCALENDAR