BEGIN:VCALENDAR
VERSION:2.0
PRODID:-//Tukios.com/
BEGIN:VEVENT
UID:8ab88bf5-f2d2-4b2a-81ba-df9eb8abb25d@www.brownsfuneralserviceatokaok.com
DTSTAMP:20260424T203642Z
DTSTART:20260501T150000Z
DTEND:20260501T160000Z
SUMMARY:Memorial Service
DESCRIPTION:
URL:https://www.brownsfuneralserviceatokaok.com/obituaries/joyce-bullard-sanders
LOCATION: 106 7th Avenue  Tupelo OK 74572
GEO:34.6043974;-96.4252899
END:VEVENT
END:VCALENDAR