BEGIN:VCALENDAR
VERSION:2.0
PRODID:-//Tukios.com/
BEGIN:VEVENT
UID:c3eb2a4a-e06e-4fb1-a962-b4d13f64b0c9@www.brownsfuneralserviceatokaok.com
DTSTAMP:20260423T011638Z
DTSTART:20260427T230000Z
DTEND:20260428T010000Z
SUMMARY:Visitation
DESCRIPTION:
URL:https://www.brownsfuneralserviceatokaok.com/obituaries/nadine-mowdy
LOCATION: 400 W Queen Ave  Coalgate OK 74538
GEO:34.5414331;-96.2222336
END:VEVENT
END:VCALENDAR