BEGIN:VCALENDAR
VERSION:2.0
PRODID:-//Tukios.com/
BEGIN:VEVENT
UID:de00dc3e-fef9-4ce3-a4ec-2d6a919b2c1a@www.brownsfuneralserviceatokaok.com
DTSTAMP:20260423T011601Z
DTSTART:20260428T150000Z
DTEND:20260428T160000Z
SUMMARY:Funeral Service
DESCRIPTION:
URL:https://www.brownsfuneralserviceatokaok.com/obituaries/nadine-mowdy
LOCATION: 400 W Queen Ave  Coalgate OK 74538
GEO:34.5414331;-96.2222336
END:VEVENT
END:VCALENDAR