BEGIN:VCALENDAR
VERSION:2.0
PRODID:-//Tukios.com/
BEGIN:VEVENT
UID:60737cd4-a20a-4c47-8114-9980ce0dd265@www.brownsfuneralserviceatokaok.com
DTSTAMP:20260423T194805Z
DTSTART:20260425T190000Z
DTEND:20260425T200000Z
SUMMARY:Funeral Service
DESCRIPTION:
URL:https://www.brownsfuneralserviceatokaok.com/obituaries/nancy-coates
LOCATION: 718 W 13th St  Atoka OK 74525
GEO:34.3742433;-96.1415977
END:VEVENT
END:VCALENDAR