BEGIN:VCALENDAR
VERSION:2.0
PRODID:-//Tukios.com/
BEGIN:VEVENT
UID:74081f59-5d49-46c8-87e8-50d28d17868d@www.brownsfuneralserviceatokaok.com
DTSTAMP:20260423T194427Z
DTSTART:20260424T230000Z
DTEND:20260425T010000Z
SUMMARY:Visitation
DESCRIPTION:
URL:https://www.brownsfuneralserviceatokaok.com/obituaries/nancy-coates
LOCATION: 718 W 13th St  Atoka OK 74525
GEO:34.3742433;-96.1415977
END:VEVENT
END:VCALENDAR