BEGIN:VCALENDAR
VERSION:2.0
PRODID:-//Tukios.com/
BEGIN:VEVENT
UID:06a6f9b4-2d76-48af-b17a-919fc2e522fb@www.brownsfuneralserviceatokaok.com
DTSTAMP:20260422T085400Z
DTSTART:20260418T190000Z
DTEND:20260418T200000Z
SUMMARY:Funeral Service
DESCRIPTION:
URL:https://www.brownsfuneralserviceatokaok.com/obituaries/tylie-terry
LOCATION: 269 Mulberry Street  Stringtown OK 74569
GEO:34.4670386;-96.0533451
END:VEVENT
END:VCALENDAR